BEGIN:VCALENDAR
VERSION:2.0
PRODID:-//Комитет по физической культуре и спорту Курской области - ECPv5.6.0//NONSGML v1.0//EN
CALSCALE:GREGORIAN
METHOD:PUBLISH
X-WR-CALNAME:Комитет по физической культуре и спорту Курской области
X-ORIGINAL-URL:https://sportcom46.ru
X-WR-CALDESC:События для Комитет по физической культуре и спорту Курской области
BEGIN:VTIMEZONE
TZID:Europe/Moscow
BEGIN:STANDARD
TZOFFSETFROM:+0300
TZOFFSETTO:+0300
TZNAME:MSK
DTSTART:20210101T000000
END:STANDARD
END:VTIMEZONE
BEGIN:VEVENT
DTSTART;TZID=Europe/Moscow:20210101T080000
DTEND;TZID=Europe/Moscow:20210331T200000
DTSTAMP:20210519T090407
CREATED:20201225T141207Z
LAST-MODIFIED:20201230T141245Z
UID:12747-1609488000-1617220800@sportcom46.ru
SUMMARY:Первенство Курской области по мини-футболу среди ветеранов 40+
DESCRIPTION:
URL:https://sportcom46.ru/event/%d0%bf%d0%b5%d1%80%d0%b2%d0%b5%d0%bd%d1%81%d1%82%d0%b2%d0%be-%d0%ba%d1%83%d1%80%d1%81%d0%ba%d0%be%d0%b9-%d0%be%d0%b1%d0%bb%d0%b0%d1%81%d1%82%d0%b8-%d0%bf%d0%be-%d0%bc%d0%b8%d0%bd%d0%b8-%d1%84%d1%83/
CATEGORIES:Анонсы мероприятий
ATTACH;FMTTYPE=image/jpeg:https://sportcom46.ru/wp-content/uploads/2019/01/мини-футбол-фото-3.jpg
END:VEVENT
BEGIN:VEVENT
DTSTART;TZID=Europe/Moscow:20210322T100000
DTEND;TZID=Europe/Moscow:20210330T160000
DTSTAMP:20210519T090407
CREATED:20210317T132001Z
LAST-MODIFIED:20210319T132042Z
UID:13524-1616407200-1617120000@sportcom46.ru
SUMMARY:Соревнования по баскетболу в зачет Спартакиады студентов высших учебных заведений в 2020-2021гг.
DESCRIPTION:
URL:https://sportcom46.ru/event/%d1%81%d0%be%d1%80%d0%b5%d0%b2%d0%bd%d0%be%d0%b2%d0%b0%d0%bd%d0%b8%d1%8f-%d0%bf%d0%be-%d0%b1%d0%b0%d1%81%d0%ba%d0%b5%d1%82%d0%b1%d0%be%d0%bb%d1%83-%d0%b2-%d0%b7%d0%b0%d1%87%d0%b5%d1%82-%d1%81%d0%bf/
LOCATION:спортивный зал КГУ\, ул. Радищева\, 29\, Курск
CATEGORIES:Анонсы мероприятий
ATTACH;FMTTYPE=image/jpeg:https://sportcom46.ru/wp-content/uploads/2019/01/баскетбольный-мяч-фото-3.jpg
END:VEVENT
BEGIN:VEVENT
DTSTART;TZID=Europe/Moscow:20210324T100000
DTEND;TZID=Europe/Moscow:20210501T100000
DTSTAMP:20210519T090407
CREATED:20210317T131813Z
LAST-MODIFIED:20210319T131937Z
UID:13521-1616580000-1619863200@sportcom46.ru
SUMMARY:Чемпионат Школьной баскетбольной лиги «КЭС-Баскет» в Курской области сезона 2020-2021гг.
DESCRIPTION:
URL:https://sportcom46.ru/event/%d1%87%d0%b5%d0%bc%d0%bf%d0%b8%d0%be%d0%bd%d0%b0%d1%82-%d1%88%d0%ba%d0%be%d0%bb%d1%8c%d0%bd%d0%be%d0%b9-%d0%b1%d0%b0%d1%81%d0%ba%d0%b5%d1%82%d0%b1%d0%be%d0%bb%d1%8c%d0%bd%d0%be%d0%b9-%d0%bb%d0%b8/
LOCATION:Муниципальные образования Курской области\, Муниципальные образования Курской области\, Russian Federation
CATEGORIES:Анонсы мероприятий
ATTACH;FMTTYPE=image/jpeg:https://sportcom46.ru/wp-content/uploads/2019/02/кэсбаскет-лого.jpg
END:VEVENT
BEGIN:VEVENT
DTSTART;TZID=Europe/Moscow:20210325T080000
DTEND;TZID=Europe/Moscow:20210411T160000
DTSTAMP:20210519T090407
CREATED:20210317T132050Z
LAST-MODIFIED:20210319T132202Z
UID:13527-1616659200-1618156800@sportcom46.ru
SUMMARY:Соревнования по стритболу в зачет областной спартакиады ЮНОСТЬ России среди проф.образовательных организаций Курской области в 2020-2021г.
DESCRIPTION:
URL:https://sportcom46.ru/event/%d1%81%d0%be%d1%80%d0%b5%d0%b2%d0%bd%d0%be%d0%b2%d0%b0%d0%bd%d0%b8%d1%8f-%d0%bf%d0%be-%d1%81%d1%82%d1%80%d0%b8%d1%82%d0%b1%d0%be%d0%bb%d1%83-%d0%b2-%d0%b7%d0%b0%d1%87%d0%b5%d1%82-%d0%be%d0%b1%d0%bb/
LOCATION:спортивный зал КГУ\, ул. Радищева\, 29\, Курск
CATEGORIES:Анонсы мероприятий
ATTACH;FMTTYPE=image/jpeg:https://sportcom46.ru/wp-content/uploads/2018/12/стритбол-фото-1.jpg
END:VEVENT
BEGIN:VEVENT
DTSTART;TZID=Europe/Moscow:20210326T100000
DTEND;TZID=Europe/Moscow:20210328T180000
DTSTAMP:20210519T090407
CREATED:20210317T132215Z
LAST-MODIFIED:20210319T132317Z
UID:13530-1616752800-1616954400@sportcom46.ru
SUMMARY:Чемпионат и Первенство Курской области по конному спорту (выездка\, конкур\, троеборье) в помещении
DESCRIPTION:
URL:https://sportcom46.ru/event/%d1%87%d0%b5%d0%bc%d0%bf%d0%b8%d0%be%d0%bd%d0%b0%d1%82-%d0%b8-%d0%bf%d0%b5%d1%80%d0%b2%d0%b5%d0%bd%d1%81%d1%82%d0%b2%d0%be-%d0%ba%d1%83%d1%80%d1%81%d0%ba%d0%be%d0%b9-%d0%be%d0%b1%d0%bb%d0%b0%d1%81-35/
LOCATION:Конноспортивная школа Курской области\, ул. Магистральная\, 42\, Курск\, Russian Federation
CATEGORIES:Анонсы мероприятий
ATTACH;FMTTYPE=image/jpeg:https://sportcom46.ru/wp-content/uploads/2020/08/конный-спорт-награда-1.jpg
END:VEVENT
BEGIN:VEVENT
DTSTART;TZID=Europe/Moscow:20210326T173000
DTEND;TZID=Europe/Moscow:20210411T180000
DTSTAMP:20210519T090407
CREATED:20210320T113102Z
LAST-MODIFIED:20210403T113145Z
UID:13712-1616779800-1618164000@sportcom46.ru
SUMMARY:Чемпионат  Курской области среди шахматистов городов и муниципальных районов
DESCRIPTION:
URL:https://sportcom46.ru/event/%d1%87%d0%b5%d0%bc%d0%bf%d0%b8%d0%be%d0%bd%d0%b0%d1%82-%d0%ba%d1%83%d1%80%d1%81%d0%ba%d0%be%d0%b9-%d0%be%d0%b1%d0%bb%d0%b0%d1%81%d1%82%d0%b8-%d1%81%d1%80%d0%b5%d0%b4%d0%b8-%d1%88%d0%b0%d1%85%d0%bc-3/
LOCATION:Городской шахматный клуб\, ул. Гайдара\, д. 14\, Курск\, Российская Федерация
CATEGORIES:Анонсы мероприятий
ATTACH;FMTTYPE=image/jpeg:https://sportcom46.ru/wp-content/uploads/2019/02/шахматы-фото-3.jpg
END:VEVENT
BEGIN:VEVENT
DTSTART;TZID=Europe/Moscow:20210327T110000
DTEND;TZID=Europe/Moscow:20210328T180000
DTSTAMP:20210519T090407
CREATED:20210317T132344Z
LAST-MODIFIED:20210319T132447Z
UID:13533-1616842800-1616954400@sportcom46.ru
SUMMARY:Чемпионат Курской области по тяжелой атлетике
DESCRIPTION:
URL:https://sportcom46.ru/event/%d1%87%d0%b5%d0%bc%d0%bf%d0%b8%d0%be%d0%bd%d0%b0%d1%82-%d0%ba%d1%83%d1%80%d1%81%d0%ba%d0%be%d0%b9-%d0%be%d0%b1%d0%bb%d0%b0%d1%81%d1%82%d0%b8-%d0%bf%d0%be-%d1%82%d1%8f%d0%b6%d0%b5%d0%bb%d0%be%d0%b9/
LOCATION:Спортивный комплекс «Спартак»\, ул. Советская\, 3 А\, Курск\, Российская Федерация
CATEGORIES:Анонсы мероприятий
ATTACH;FMTTYPE=image/jpeg:https://sportcom46.ru/wp-content/uploads/2018/11/тяжелая-атлетика-фото-3.jpg
END:VEVENT
END:VCALENDAR