BEGIN:VCALENDAR
VERSION:2.0
PRODID:-//Комитет по физической культуре и спорту Курской области - ECPv5.6.0//NONSGML v1.0//EN
CALSCALE:GREGORIAN
METHOD:PUBLISH
X-WR-CALNAME:Комитет по физической культуре и спорту Курской области
X-ORIGINAL-URL:https://sportcom46.ru
X-WR-CALDESC:События для Комитет по физической культуре и спорту Курской области
BEGIN:VTIMEZONE
TZID:Europe/Moscow
BEGIN:STANDARD
TZOFFSETFROM:+0300
TZOFFSETTO:+0300
TZNAME:MSK
DTSTART:20210101T000000
END:STANDARD
END:VTIMEZONE
BEGIN:VEVENT
DTSTART;TZID=Europe/Moscow:20210101T080000
DTEND;TZID=Europe/Moscow:20210331T200000
DTSTAMP:20210519T090115
CREATED:20201225T141207Z
LAST-MODIFIED:20201230T141245Z
UID:12747-1609488000-1617220800@sportcom46.ru
SUMMARY:Первенство Курской области по мини-футболу среди ветеранов 40+
DESCRIPTION:
URL:https://sportcom46.ru/event/%d0%bf%d0%b5%d1%80%d0%b2%d0%b5%d0%bd%d1%81%d1%82%d0%b2%d0%be-%d0%ba%d1%83%d1%80%d1%81%d0%ba%d0%be%d0%b9-%d0%be%d0%b1%d0%bb%d0%b0%d1%81%d1%82%d0%b8-%d0%bf%d0%be-%d0%bc%d0%b8%d0%bd%d0%b8-%d1%84%d1%83/
CATEGORIES:Анонсы мероприятий
ATTACH;FMTTYPE=image/jpeg:https://sportcom46.ru/wp-content/uploads/2019/01/мини-футбол-фото-3.jpg
END:VEVENT
BEGIN:VEVENT
DTSTART;TZID=Europe/Moscow:20210319T100000
DTEND;TZID=Europe/Moscow:20210320T180000
DTSTAMP:20210519T090115
CREATED:20210309T130529Z
LAST-MODIFIED:20210314T130732Z
UID:13430-1616148000-1616263200@sportcom46.ru
SUMMARY:Соревнования по пауэрлифтингу в зачет спартакиады 2020-21гг. среди ВУЗов Курской области
DESCRIPTION:
URL:https://sportcom46.ru/event/%d1%81%d0%be%d1%80%d0%b5%d0%b2%d0%bd%d0%be%d0%b2%d0%b0%d0%bd%d0%b8%d1%8f-%d0%bf%d0%be-%d0%bf%d0%b0%d1%83%d1%8d%d1%80%d0%bb%d0%b8%d1%84%d1%82%d0%b8%d0%bd%d0%b3%d1%83-%d0%b2-%d0%b7%d0%b0%d1%87%d0%b5/
LOCATION:Спортивно-тренировочный комплекс Курской сельскохозяйственной академии\, ул. Карла Маркса\, 70\, Курск\, Российская Федерация
CATEGORIES:Анонсы мероприятий
ATTACH;FMTTYPE=image/jpeg:https://sportcom46.ru/wp-content/uploads/2018/11/пауэрлифтинг-штанга-фото-2.jpg
END:VEVENT
BEGIN:VEVENT
DTSTART;TZID=Europe/Moscow:20210320T100000
DTEND;TZID=Europe/Moscow:20210320T180000
DTSTAMP:20210519T090115
CREATED:20210309T130746Z
LAST-MODIFIED:20210314T130905Z
UID:13435-1616234400-1616263200@sportcom46.ru
SUMMARY:Первенство Курской области по практической стрельбе из пневматического пистолета
DESCRIPTION:
URL:https://sportcom46.ru/event/%d0%bf%d0%b5%d1%80%d0%b2%d0%b5%d0%bd%d1%81%d1%82%d0%b2%d0%be-%d0%ba%d1%83%d1%80%d1%81%d0%ba%d0%be%d0%b9-%d0%be%d0%b1%d0%bb%d0%b0%d1%81%d1%82%d0%b8-%d0%bf%d0%be-%d0%bf%d1%80%d0%b0%d0%ba%d1%82%d0%b8/
LOCATION:УЦ «Гарантия — плюс»\, ул. Энгельса д.169\, Курск\, Российская Федерация
CATEGORIES:Анонсы мероприятий
ATTACH;FMTTYPE=image/jpeg:https://sportcom46.ru/wp-content/uploads/2019/09/пулевая-стрельба-фото-3.jpg
END:VEVENT
BEGIN:VEVENT
DTSTART;TZID=Europe/Moscow:20210320T100000
DTEND;TZID=Europe/Moscow:20210321T170000
DTSTAMP:20210519T090115
CREATED:20210309T131015Z
LAST-MODIFIED:20210314T131045Z
UID:13443-1616234400-1616346000@sportcom46.ru
SUMMARY:Чемпионат и Первенство Курской области по тхэквондо
DESCRIPTION:
URL:https://sportcom46.ru/event/%d1%87%d0%b5%d0%bc%d0%bf%d0%b8%d0%be%d0%bd%d0%b0%d1%82-%d0%b8-%d0%bf%d0%b5%d1%80%d0%b2%d0%b5%d0%bd%d1%81%d1%82%d0%b2%d0%be-%d0%ba%d1%83%d1%80%d1%81%d0%ba%d0%be%d0%b9-%d0%be%d0%b1%d0%bb%d0%b0%d1%81-34/
LOCATION:«Мегакомплекс «ГРИНН»\, ул. Карла Маркса\, д. 68Б\, Курск\, Российская Федерация
CATEGORIES:Анонсы мероприятий
ATTACH;FMTTYPE=image/jpeg:https://sportcom46.ru/wp-content/uploads/2019/01/тхэквондо-фото-1.jpg
END:VEVENT
BEGIN:VEVENT
DTSTART;TZID=Europe/Moscow:20210320T120000
DTEND;TZID=Europe/Moscow:20210320T160000
DTSTAMP:20210519T090115
CREATED:20210309T131000Z
LAST-MODIFIED:20210314T131112Z
UID:13440-1616241600-1616256000@sportcom46.ru
SUMMARY:Зимний фестиваль ВФСК ГТО среди всех категорий населения Курской области
DESCRIPTION:
URL:https://sportcom46.ru/event/%d0%b7%d0%b8%d0%bc%d0%bd%d0%b8%d0%b9-%d1%84%d0%b5%d1%81%d1%82%d0%b8%d0%b2%d0%b0%d0%bb%d1%8c-%d0%b2%d1%84%d1%81%d0%ba-%d0%b3%d1%82%d0%be-%d1%81%d1%80%d0%b5%d0%b4%d0%b8-%d0%b2%d1%81%d0%b5%d1%85-%d0%ba/
LOCATION:стадион «Трудовые резервы»\, ул. Ленина 56-58\, Курск\, Российская Федерация
CATEGORIES:Анонсы мероприятий
ATTACH;FMTTYPE=image/jpeg:https://sportcom46.ru/wp-content/uploads/2019/02/гто-лого-фото-2.jpg
END:VEVENT
END:VCALENDAR