BEGIN:VCALENDAR
VERSION:2.0
PRODID:-//Комитет по физической культуре и спорту Курской области - ECPv5.7.1//NONSGML v1.0//EN
CALSCALE:GREGORIAN
METHOD:PUBLISH
X-WR-CALNAME:Комитет по физической культуре и спорту Курской области
X-ORIGINAL-URL:https://sportcom46.ru
X-WR-CALDESC:События для Комитет по физической культуре и спорту Курской области
BEGIN:VTIMEZONE
TZID:Europe/Moscow
BEGIN:STANDARD
TZOFFSETFROM:+0300
TZOFFSETTO:+0300
TZNAME:MSK
DTSTART:20200101T000000
END:STANDARD
END:VTIMEZONE
BEGIN:VEVENT
DTSTART;TZID=Europe/Moscow:20201230T000000
DTEND;TZID=Europe/Moscow:20210110T233000
DTSTAMP:20210627T181103
CREATED:20201225T140855Z
LAST-MODIFIED:20201230T140904Z
UID:12734-1609286400-1610321400@sportcom46.ru
SUMMARY:X Региональный турнир по хоккею с шайбой «Ночная хоккейная лига»
DESCRIPTION:
URL:https://sportcom46.ru/event/x-%d1%80%d0%b5%d0%b3%d0%b8%d0%be%d0%bd%d0%b0%d0%bb%d1%8c%d0%bd%d1%8b%d0%b9-%d1%82%d1%83%d1%80%d0%bd%d0%b8%d1%80-%d0%bf%d0%be-%d1%85%d0%be%d0%ba%d0%ba%d0%b5%d1%8e-%d1%81-%d1%88%d0%b0%d0%b9%d0%b1%d0%be/
LOCATION:АУ КО  «СШ «Арена»\, ул. Веспремская\, 9\, Курск\, Российская Федерация
ATTACH;FMTTYPE=image/jpeg:https://sportcom46.ru/wp-content/uploads/2019/01/хоккей-фото-1.jpg
END:VEVENT
END:VCALENDAR