BEGIN:VCALENDAR
VERSION:2.0
PRODID:-//Комитет по физической культуре и спорту Курской области - ECPv5.6.0//NONSGML v1.0//EN
CALSCALE:GREGORIAN
METHOD:PUBLISH
X-WR-CALNAME:Комитет по физической культуре и спорту Курской области
X-ORIGINAL-URL:https://sportcom46.ru
X-WR-CALDESC:События для Комитет по физической культуре и спорту Курской области
BEGIN:VTIMEZONE
TZID:Europe/Moscow
BEGIN:STANDARD
TZOFFSETFROM:+0300
TZOFFSETTO:+0300
TZNAME:MSK
DTSTART:20210101T000000
END:STANDARD
END:VTIMEZONE
BEGIN:VEVENT
DTSTART;TZID=Europe/Moscow:20210404T110000
DTEND;TZID=Europe/Moscow:20210404T190000
DTSTAMP:20210509T165810
CREATED:20210325T113158Z
LAST-MODIFIED:20210403T113243Z
UID:13715-1617534000-1617562800@sportcom46.ru
SUMMARY:2-й этап кубка Курской области по кросс-кантри (Кубок ВелоКурска) в дисциплине олимпийский кросс-кантри
DESCRIPTION:
URL:https://sportcom46.ru/event/2-%d0%b9-%d1%8d%d1%82%d0%b0%d0%bf-%d0%ba%d1%83%d0%b1%d0%ba%d0%b0-%d0%ba%d1%83%d1%80%d1%81%d0%ba%d0%be%d0%b9-%d0%be%d0%b1%d0%bb%d0%b0%d1%81%d1%82%d0%b8-%d0%bf%d0%be-%d0%ba%d1%80%d0%be%d1%81%d1%81/
LOCATION:Парк Солянка\, урочище Моква\, Курск
CATEGORIES:Анонсы мероприятий
ATTACH;FMTTYPE=image/jpeg:https://sportcom46.ru/wp-content/uploads/2019/09/велоспорт-хсо-фото-1.jpg
END:VEVENT
END:VCALENDAR