BEGIN:VCALENDAR
VERSION:2.0
PRODID:-//Комитет по физической культуре и спорту Курской области - ECPv5.6.0//NONSGML v1.0//EN
CALSCALE:GREGORIAN
METHOD:PUBLISH
X-WR-CALNAME:Комитет по физической культуре и спорту Курской области
X-ORIGINAL-URL:https://sportcom46.ru
X-WR-CALDESC:События для Комитет по физической культуре и спорту Курской области
BEGIN:VTIMEZONE
TZID:Europe/Moscow
BEGIN:STANDARD
TZOFFSETFROM:+0300
TZOFFSETTO:+0300
TZNAME:MSK
DTSTART:20210101T000000
END:STANDARD
END:VTIMEZONE
BEGIN:VEVENT
DTSTART;TZID=Europe/Moscow:20210407T110000
DTEND;TZID=Europe/Moscow:20210407T180000
DTSTAMP:20210509T165857
CREATED:20210401T112704Z
LAST-MODIFIED:20210403T112806Z
UID:13703-1617793200-1617818400@sportcom46.ru
SUMMARY:Соревнование по дзюдо среди ВУЗов Курской области в зачет спартакиады 2020-2021 учебного года
DESCRIPTION:
URL:https://sportcom46.ru/event/%d1%81%d0%be%d1%80%d0%b5%d0%b2%d0%bd%d0%be%d0%b2%d0%b0%d0%bd%d0%b8%d0%b5-%d0%bf%d0%be-%d0%b4%d0%b7%d1%8e%d0%b4%d0%be-%d1%81%d1%80%d0%b5%d0%b4%d0%b8-%d0%b2%d1%83%d0%b7%d0%be%d0%b2-%d0%ba%d1%83%d1%80/
LOCATION:«Физкультурно-спортивный центр» ЮЗГУ\, ул. 50 лет Октября\, д.94\, Курск\, Российская Федерация
CATEGORIES:Анонсы мероприятий
ATTACH;FMTTYPE=image/jpeg:https://sportcom46.ru/wp-content/uploads/2019/03/пр-по-дзюдо-екатеринбург-2019-4.jpg
END:VEVENT
END:VCALENDAR