BEGIN:VCALENDAR
VERSION:2.0
PRODID:-//Комитет по физической культуре и спорту Курской области - ECPv5.8.1//NONSGML v1.0//EN
CALSCALE:GREGORIAN
METHOD:PUBLISH
X-WR-CALNAME:Комитет по физической культуре и спорту Курской области
X-ORIGINAL-URL:https://sportcom46.ru
X-WR-CALDESC:События для Комитет по физической культуре и спорту Курской области
BEGIN:VTIMEZONE
TZID:Europe/Moscow
BEGIN:STANDARD
TZOFFSETFROM:+0300
TZOFFSETTO:+0300
TZNAME:MSK
DTSTART:20210101T000000
END:STANDARD
END:VTIMEZONE
BEGIN:VEVENT
DTSTART;TZID=Europe/Moscow:20210529T110000
DTEND;TZID=Europe/Moscow:20210529T170000
DTSTAMP:20210802T144412
CREATED:20210522T103718Z
LAST-MODIFIED:20210522T103718Z
UID:14325-1622286000-1622307600@sportcom46.ru
SUMMARY:Первенство Курской области по спортивной борьбе грепплинг среди юношей и девушек 12-13 лет
DESCRIPTION:
URL:https://sportcom46.ru/event/%d0%bf%d0%b5%d1%80%d0%b2%d0%b5%d0%bd%d1%81%d1%82%d0%b2%d0%be-%d0%ba%d1%83%d1%80%d1%81%d0%ba%d0%be%d0%b9-%d0%be%d0%b1%d0%bb%d0%b0%d1%81%d1%82%d0%b8-%d0%bf%d0%be-%d1%81%d0%bf%d0%be%d1%80%d1%82%d0%b8-6/
LOCATION:спортивный зал КГУ\, ул. Радищева\, 29\, Курск
CATEGORIES:Анонсы мероприятий
ATTACH;FMTTYPE=image/jpeg:https://sportcom46.ru/wp-content/uploads/2021/05/король-партера-2021-фото-4.jpg
END:VEVENT
END:VCALENDAR