BEGIN:VCALENDAR
VERSION:2.0
PRODID:-//Комитет по физической культуре и спорту Курской области - ECPv5.8.1//NONSGML v1.0//EN
CALSCALE:GREGORIAN
METHOD:PUBLISH
X-WR-CALNAME:Комитет по физической культуре и спорту Курской области
X-ORIGINAL-URL:https://sportcom46.ru
X-WR-CALDESC:События для Комитет по физической культуре и спорту Курской области
BEGIN:VTIMEZONE
TZID:Europe/Moscow
BEGIN:STANDARD
TZOFFSETFROM:+0300
TZOFFSETTO:+0300
TZNAME:MSK
DTSTART:20210101T000000
END:STANDARD
END:VTIMEZONE
BEGIN:VEVENT
DTSTART;TZID=Europe/Moscow:20210530T090000
DTEND;TZID=Europe/Moscow:20210530T160000
DTSTAMP:20210802T144629
CREATED:20210522T103759Z
LAST-MODIFIED:20210522T103759Z
UID:14328-1622365200-1622390400@sportcom46.ru
SUMMARY:Всероссийский полумарафон «ЗаБег.РФ»
DESCRIPTION:
URL:https://sportcom46.ru/event/%d0%b2%d1%81%d0%b5%d1%80%d0%be%d1%81%d1%81%d0%b8%d0%b9%d1%81%d0%ba%d0%b8%d0%b9-%d0%bf%d0%be%d0%bb%d1%83%d0%bc%d0%b0%d1%80%d0%b0%d1%84%d0%be%d0%bd-%d0%b7%d0%b0%d0%b1%d0%b5%d0%b3-%d1%80%d1%84/
LOCATION:г. Курск\, Курск
CATEGORIES:Анонсы мероприятий
ATTACH;FMTTYPE=image/jpeg:https://sportcom46.ru/wp-content/uploads/2021/03/ЗаБег.РФ-лого.jpg
END:VEVENT
END:VCALENDAR